BEGIN:VCALENDAR
VERSION:2.0
PRODID:-//Grandpas United - ECPv6.15.17.1//NONSGML v1.0//EN
CALSCALE:GREGORIAN
METHOD:PUBLISH
X-ORIGINAL-URL:https://grandpasunited.org
X-WR-CALDESC:Events for Grandpas United
REFRESH-INTERVAL;VALUE=DURATION:PT1H
X-Robots-Tag:noindex
X-PUBLISHED-TTL:PT1H
BEGIN:VTIMEZONE
TZID:America/New_York
BEGIN:DAYLIGHT
TZOFFSETFROM:-0500
TZOFFSETTO:-0400
TZNAME:EDT
DTSTART:20240310T070000
END:DAYLIGHT
BEGIN:STANDARD
TZOFFSETFROM:-0400
TZOFFSETTO:-0500
TZNAME:EST
DTSTART:20241103T060000
END:STANDARD
BEGIN:DAYLIGHT
TZOFFSETFROM:-0500
TZOFFSETTO:-0400
TZNAME:EDT
DTSTART:20250309T070000
END:DAYLIGHT
BEGIN:STANDARD
TZOFFSETFROM:-0400
TZOFFSETTO:-0500
TZNAME:EST
DTSTART:20251102T060000
END:STANDARD
BEGIN:DAYLIGHT
TZOFFSETFROM:-0500
TZOFFSETTO:-0400
TZNAME:EDT
DTSTART:20260308T070000
END:DAYLIGHT
BEGIN:STANDARD
TZOFFSETFROM:-0400
TZOFFSETTO:-0500
TZNAME:EST
DTSTART:20261101T060000
END:STANDARD
END:VTIMEZONE
BEGIN:VEVENT
DTSTART;TZID=America/New_York:20250805T170000
DTEND;TZID=America/New_York:20250805T200000
DTSTAMP:20260423T072308
CREATED:20250715T235751Z
LAST-MODIFIED:20250715T235751Z
UID:12109-1754413200-1754424000@grandpasunited.org
SUMMARY:National Night Out in White Plains
DESCRIPTION:Join the Party! The Grandpas will have a table at this annual block party sponsored by White Plains Public Safety. Live entertainment\, food trucks\, and free raffles. See link for more info: https://whiteplainspublicsafety.com/events/national-night-out-2025/
URL:https://grandpasunited.org/event/national-night-out-in-white-plains/
LOCATION:Public Safety Building\, 77 South Lexington Avenue\, White Plains\, NY\, United States
END:VEVENT
BEGIN:VEVENT
DTSTART;TZID=America/New_York:20250806T093000
DTEND;TZID=America/New_York:20250806T093000
DTSTAMP:20260423T072308
CREATED:20250715T235858Z
LAST-MODIFIED:20250731T175744Z
UID:12112-1754472600-1754472600@grandpasunited.org
SUMMARY:Memoir Group 
DESCRIPTION:An opportunity to share your stories among friends. For more info\, contact sharongrandpasunited@gmail.com
URL:https://grandpasunited.org/event/memoir-group/
LOCATION:NY
END:VEVENT
BEGIN:VEVENT
DTSTART;TZID=America/New_York:20250815T093000
DTEND;TZID=America/New_York:20250815T093000
DTSTAMP:20260423T072308
CREATED:20250715T235555Z
LAST-MODIFIED:20250731T175649Z
UID:12107-1755250200-1755250200@grandpasunited.org
SUMMARY:Mentor Skills & Support Group on Zoom
DESCRIPTION:Learn new mentoring skills\, share strategies\, challenges\, and successes in a supportive space. The group is open to our Grandpas in all locations to strengthen their impact with youth while building confidence\, connection\, and a sense of shared purpose. Email sharongrandpasunited@gmail.com for the Zoom link.
URL:https://grandpasunited.org/event/mentor-skills-support-group-on-zoom-2/
LOCATION:Zoom (online)
END:VEVENT
BEGIN:VEVENT
DTSTART;TZID=America/New_York:20250820T093000
DTEND;TZID=America/New_York:20250820T093000
DTSTAMP:20260423T072308
CREATED:20250715T235938Z
LAST-MODIFIED:20250731T175811Z
UID:12114-1755682200-1755682200@grandpasunited.org
SUMMARY:Intergenerational Fishing Trip
DESCRIPTION:The Grandpas\, White Plains police officers and youth venture out on Long Island Sound for a little fishing and a lot of fun.
URL:https://grandpasunited.org/event/intergenerational-fishing-trip/
LOCATION:NY
END:VEVENT
END:VCALENDAR