BEGIN:VCALENDAR
VERSION:2.0
PRODID:-//Grandpas United - ECPv6.15.17.1//NONSGML v1.0//EN
CALSCALE:GREGORIAN
METHOD:PUBLISH
X-WR-CALNAME:Grandpas United
X-ORIGINAL-URL:https://grandpasunited.org
X-WR-CALDESC:Events for Grandpas United
REFRESH-INTERVAL;VALUE=DURATION:PT1H
X-Robots-Tag:noindex
X-PUBLISHED-TTL:PT1H
BEGIN:VTIMEZONE
TZID:America/New_York
BEGIN:DAYLIGHT
TZOFFSETFROM:-0500
TZOFFSETTO:-0400
TZNAME:EDT
DTSTART:20240310T070000
END:DAYLIGHT
BEGIN:STANDARD
TZOFFSETFROM:-0400
TZOFFSETTO:-0500
TZNAME:EST
DTSTART:20241103T060000
END:STANDARD
BEGIN:DAYLIGHT
TZOFFSETFROM:-0500
TZOFFSETTO:-0400
TZNAME:EDT
DTSTART:20250309T070000
END:DAYLIGHT
BEGIN:STANDARD
TZOFFSETFROM:-0400
TZOFFSETTO:-0500
TZNAME:EST
DTSTART:20251102T060000
END:STANDARD
BEGIN:DAYLIGHT
TZOFFSETFROM:-0500
TZOFFSETTO:-0400
TZNAME:EDT
DTSTART:20260308T070000
END:DAYLIGHT
BEGIN:STANDARD
TZOFFSETFROM:-0400
TZOFFSETTO:-0500
TZNAME:EST
DTSTART:20261101T060000
END:STANDARD
END:VTIMEZONE
BEGIN:VEVENT
DTSTART;TZID=America/New_York:20250716T090000
DTEND;TZID=America/New_York:20250716T100000
DTSTAMP:20260423T144303
CREATED:20250716T000346Z
LAST-MODIFIED:20250716T000346Z
UID:12121-1752656400-1752660000@grandpasunited.org
SUMMARY:Grandpas United Interest Meeting
DESCRIPTION:A gathering designed to inform and recruit new members to the Port Chester chapter of Grandpas United.
URL:https://grandpasunited.org/event/grandpas-united-interest-meeting/
LOCATION:Port Chester Village Hall Senior Center\,\, 222 Grace Church Street\, Port Chester\, NY\, United States
END:VEVENT
END:VCALENDAR